BEGIN:VCALENDAR
VERSION:2.0
PRODID:-//Hill Top RVA - ECPv6.15.20//NONSGML v1.0//EN
CALSCALE:GREGORIAN
METHOD:PUBLISH
X-ORIGINAL-URL:https://thehilltoprva.com
X-WR-CALDESC:Events for Hill Top RVA
REFRESH-INTERVAL;VALUE=DURATION:PT1H
X-Robots-Tag:noindex
X-PUBLISHED-TTL:PT1H
BEGIN:VTIMEZONE
TZID:America/New_York
BEGIN:DAYLIGHT
TZOFFSETFROM:-0500
TZOFFSETTO:-0400
TZNAME:EDT
DTSTART:20250309T070000
END:DAYLIGHT
BEGIN:STANDARD
TZOFFSETFROM:-0400
TZOFFSETTO:-0500
TZNAME:EST
DTSTART:20251102T060000
END:STANDARD
BEGIN:DAYLIGHT
TZOFFSETFROM:-0500
TZOFFSETTO:-0400
TZNAME:EDT
DTSTART:20260308T070000
END:DAYLIGHT
BEGIN:STANDARD
TZOFFSETFROM:-0400
TZOFFSETTO:-0500
TZNAME:EST
DTSTART:20261101T060000
END:STANDARD
BEGIN:DAYLIGHT
TZOFFSETFROM:-0500
TZOFFSETTO:-0400
TZNAME:EDT
DTSTART:20270314T070000
END:DAYLIGHT
BEGIN:STANDARD
TZOFFSETFROM:-0400
TZOFFSETTO:-0500
TZNAME:EST
DTSTART:20271107T060000
END:STANDARD
END:VTIMEZONE
BEGIN:VEVENT
DTSTART;TZID=America/New_York:20260213T190000
DTEND;TZID=America/New_York:20260213T223000
DTSTAMP:20260421T091951
CREATED:20260127T133110Z
LAST-MODIFIED:20260131T064711Z
UID:1909-1771009200-1771021800@thehilltoprva.com
SUMMARY:Dark Room Showcase
DESCRIPTION:  \n \n  \nFEBUARY 13\, 2026\nOVER 20 ARTIST SHOWCASED FROM THE DMV!!!\nMORE INFORMATION OR TO BUY TICKETS DM @EVENTSBYMONI_\n  \nNEW!!NIGHT CAP\n \nTICKETS ON SALE 
URL:https://thehilltoprva.com/event/dark-room-showcase/
LOCATION:Hill Top\, 4916 Government Rd\, Richmond\, VA\, 23231\, United States
ATTACH;FMTTYPE=image/jpeg:https://thehilltoprva.com/wp-content/uploads/2026/01/photo-output.jpg
END:VEVENT
END:VCALENDAR