BEGIN:VCALENDAR
VERSION:2.0
PRODID:-//Hill Top RVA - ECPv6.15.20//NONSGML v1.0//EN
CALSCALE:GREGORIAN
METHOD:PUBLISH
X-WR-CALNAME:Hill Top RVA
X-ORIGINAL-URL:https://thehilltoprva.com
X-WR-CALDESC:Events for Hill Top RVA
REFRESH-INTERVAL;VALUE=DURATION:PT1H
X-Robots-Tag:noindex
X-PUBLISHED-TTL:PT1H
BEGIN:VTIMEZONE
TZID:America/New_York
BEGIN:DAYLIGHT
TZOFFSETFROM:-0500
TZOFFSETTO:-0400
TZNAME:EDT
DTSTART:20230312T070000
END:DAYLIGHT
BEGIN:STANDARD
TZOFFSETFROM:-0400
TZOFFSETTO:-0500
TZNAME:EST
DTSTART:20231105T060000
END:STANDARD
BEGIN:DAYLIGHT
TZOFFSETFROM:-0500
TZOFFSETTO:-0400
TZNAME:EDT
DTSTART:20240310T070000
END:DAYLIGHT
BEGIN:STANDARD
TZOFFSETFROM:-0400
TZOFFSETTO:-0500
TZNAME:EST
DTSTART:20241103T060000
END:STANDARD
BEGIN:DAYLIGHT
TZOFFSETFROM:-0500
TZOFFSETTO:-0400
TZNAME:EDT
DTSTART:20250309T070000
END:DAYLIGHT
BEGIN:STANDARD
TZOFFSETFROM:-0400
TZOFFSETTO:-0500
TZNAME:EST
DTSTART:20251102T060000
END:STANDARD
BEGIN:DAYLIGHT
TZOFFSETFROM:-0500
TZOFFSETTO:-0400
TZNAME:EDT
DTSTART:20260308T070000
END:DAYLIGHT
BEGIN:STANDARD
TZOFFSETFROM:-0400
TZOFFSETTO:-0500
TZNAME:EST
DTSTART:20261101T060000
END:STANDARD
END:VTIMEZONE
BEGIN:VTIMEZONE
TZID:UTC
BEGIN:STANDARD
TZOFFSETFROM:+0000
TZOFFSETTO:+0000
TZNAME:UTC
DTSTART:20230101T000000
END:STANDARD
END:VTIMEZONE
BEGIN:VEVENT
DTSTART;TZID=America/New_York:20250824T170000
DTEND;TZID=America/New_York:20250824T210000
DTSTAMP:20260421T162735
CREATED:20241230T205001Z
LAST-MODIFIED:20250820T162826Z
UID:1018-1756054800-1756069200@thehilltoprva.com
SUMMARY:Commanders Kings Live Podcast
DESCRIPTION:Sorry we are sold out\, if you would like to still be involved and support the event scroll down to Patron Support at the bottom of page.  Thank you for overwhelming support thus far.  RAISE HAIL Commanders!!!!!\nCommander Kings Season Preview\nLive Podcast\nin collaboration with The Hilltop RVA\n  \nEntertainment provided by:  Dj Coria & Jproj Production\n  \nWhen:  August 24\, 2025\nDoors open: 5:00 pm\nShow starts:  5:45 pm\nSun 5:00 pm-9:00 pm\nWhere:  Crystal City Sports Bar\n529 23rd Street S\nArlington\, VA 22202\n  \nParking behind the building:  2200 S Eads St\, Arlington\, VA 22202\n  \nPatrons Support\nBronze Tier \nSilver Tier \nGold Tier \nWILD CARD TIER (support the event with a donation of your choice) \n  \nBecome A Event Sponsor\nContact us for more information via text at 804-348-2322\n  \n \n  \n*ALL SALES ARE FINAL\n*SALES CAN BE CREDITED TO OTHER UPCOMING EVENTS HOSTED BY THE COMMANDERS KINGS
URL:https://thehilltoprva.com/event/commanderkings/
LOCATION:Crystal City Sports Bar\, 529 23rd Street S\, Arlington\, 22202\, United States
ATTACH;FMTTYPE=image/jpeg:https://thehilltoprva.com/wp-content/uploads/2024/12/1147627855852366547.jpg
END:VEVENT
BEGIN:VEVENT
DTSTART;TZID=UTC:20250812T123000
DTEND;TZID=UTC:20250812T140000
DTSTAMP:20260421T162735
CREATED:20240527T155335Z
LAST-MODIFIED:20250714T203552Z
UID:602-1755001800-1755007200@thehilltoprva.com
SUMMARY:Atlantic Outreach Mobile Food Pantry
DESCRIPTION:
URL:https://thehilltoprva.com/event/atlantic-outreach-mobile-food-pantry-2/
LOCATION:Hill Top\, 4916 Government Rd\, Richmond\, VA\, 23231\, United States
ATTACH;FMTTYPE=image/png:https://thehilltoprva.com/wp-content/uploads/2024/05/IMG_0187.png
END:VEVENT
BEGIN:VEVENT
DTSTART;TZID=America/New_York:20250622T170000
DTEND;TZID=America/New_York:20250622T210000
DTSTAMP:20260421T162735
CREATED:20250523T204829Z
LAST-MODIFIED:20250523T210719Z
UID:1410-1750611600-1750626000@thehilltoprva.com
SUMMARY:THE GATHERING-JUNETEENTH EMPOWERMENT CELEBRATION
DESCRIPTION:Join us at The Hilltop RVA on Sunday\, June 22nd\, from 5 PM to 9 PM for The Gathering—an vibrant celebration to conclude our 2025 Juneteenth Empowerment Festival! Enjoy an evening filled with energetic dancing\, meaningful connections\, and a strong sense of community. The night will feature a lively night market showcasing local vendors\, with entertainment provided by talented DJs and thrilling dance battles hosted by @subjectivedance! \nAre you interested in becoming a vendor or sponsor? Visit thehilltoprva.com/events or click the link in our bio to get involved. \nBECOME A VENDOR \nBECOME A SPONSOR \nMusic by: \n@papiibds \n@misohemghi \n@ladosinternet \nSupported by: \n@y.m.o.t.u_entertainment \n@jamborazo
URL:https://thehilltoprva.com/event/the-gathering-a-juneteenth-celebration/
LOCATION:VA
ATTACH;FMTTYPE=image/jpeg:https://thehilltoprva.com/wp-content/uploads/2025/05/IMG_5912-1.jpeg
END:VEVENT
BEGIN:VEVENT
DTSTART;TZID=America/New_York:20250621T170000
DTEND;TZID=America/New_York:20250621T210000
DTSTAMP:20260421T162735
CREATED:20250518T062951Z
LAST-MODIFIED:20250525T120847Z
UID:1285-1750525200-1750539600@thehilltoprva.com
SUMMARY:"We Outside" Night Market
DESCRIPTION:  \n\n “We Outside”\n Night \n🌙Night Market!\nGet ready for an unforgettable evening at The Hilltop RVA on June 21\, 2025 from 5 pm to 9pm! We are thrilled to invite you to the  \nWe Outside Night Market\, where the vibrant rhythms of live music and entertainment meet a bustling e-commerce environment filled with amazing local vendors.  \nWhy You Should Attend \n✅Free Admission: That’s right! Entrance to this incredible night market is absolutely FREE\, ensuring that everyone can celebrate community\, culture\, and creativity without any barriers.  \n✅Diverse Vendors: Explore a wide array of products and services from local artisans\, small businesses\, and creative entrepreneurs. From handcrafted goods to delicious food\, there’s something for everyone! \n✅Live Entertainment: Enjoy the captivating performances from talented artists and musicians as you soak in the lively atmosphere.  \nWhile admission doesn’t cost you a dime\, we’re inviting attendees to consider making a donation. Your contributions will help cover expenses for entertainment and various costs associated with hosting this event\, ensuring a fantastic experience for all. Every dollar makes a difference and helps us bring joy to the community!  \n✅Together\, Let’s Make It a Night to Remember! \nGather your friends and family\, support local creators\, and enjoy a night filled with fun\, laughter\, and connection.  \nJoin us in celebrating the spirit of community at the “We Outside Night Market!” Your presence counts\, and your generosity goes a long way. See you there!  \nBecome a Vendor \nBecome a Performer \nBecome a Sponsor \n 
URL:https://thehilltoprva.com/event/we-outside-night-market/
LOCATION:Hill Top\, 4916 Government Rd\, Richmond\, VA\, 23231\, United States
ATTACH;FMTTYPE=image/jpeg:https://thehilltoprva.com/wp-content/uploads/2025/05/IMG_1297.jpg
END:VEVENT
BEGIN:VEVENT
DTSTART;TZID=America/New_York:20250620T170000
DTEND;TZID=America/New_York:20250620T200000
DTSTAMP:20260421T162735
CREATED:20250515T172126Z
LAST-MODIFIED:20250519T032414Z
UID:1269-1750438800-1750449600@thehilltoprva.com
SUMMARY:Fulton Empowerment Concert
DESCRIPTION:Click here for more info or to buy ticket. \n\nBecome A Vendor\nBecome A Sponsor\n\nPreorder event T-shirt-\nPreorder event t-shirt and receive at ticket check in. \n  \n \nCLICK TO PURCHASE
URL:https://thehilltoprva.com/event/fulton-empowerment-concert/
LOCATION:Mount Calvry Baptist Church\, 4401 Hobbs Lane\, RICHMOND\, VA\, 23231\, United States
ATTACH;FMTTYPE=image/jpeg:https://thehilltoprva.com/wp-content/uploads/2025/05/IMG_1248.jpeg
END:VEVENT
BEGIN:VEVENT
DTSTART;TZID=America/New_York:20250619T100000
DTEND;TZID=America/New_York:20250622T200000
DTSTAMP:20260421T162735
CREATED:20250519T031253Z
LAST-MODIFIED:20250519T031253Z
UID:1353-1750327200-1750622400@thehilltoprva.com
SUMMARY:FULTON JUNETEENTH EMPOWERMENT CELEBRATION SPONSORSHIP TIERS
DESCRIPTION:Sponsorship Tiers\n  \nCornerstone Tier  $3\,000.00 \nSponsor 5 of The Hilltop RVA events at the Platium tier level.  (See Platium Tier below.) \nClick to purchase \nDiamond Tier – $1\,000.00 \n–Premium Brand Visibility: Your logo prominently displayed on all event marketing materials\, including flyers\, posters\, and banners.\n-Social Media Shout-outs: Featured as a top sponsor on our social media platforms with dedicated posts before\, during\, and after the event.\n-Stage Banner Placement: Your company banner displayed on stage during the event.\n-PA Announcements: Regular acknowledgments over the PA system throughout the event.\n-Exclusive Booth Space: Premier booth space at the event for your promotional activities.\n-VIP Seating: Reserved VIP seating at the main events for two representatives.\n-Website Recognition: Featured on our event website with a link to your company page. \nClick to Purchase \nPlatinum Tier – $750 \n-Significant Brand Presence: Your logo on event promotional materials with prominent placement.\n-Social Media Mentions: Inclusion in pre-event\, during\, and post-event social media posts.\n-Event Signage: Logo included on general event signage.\n-PA Acknowledgments: Mentioned during key announcements over the PA system.\n– Booth Space: Prime location for a booth to engage with attendees.\n-VIP Seating: Reserved seating for one representative at the main events.\n-Website Acknowledgment: Recognition on the event website. \nClick to Purchase \nGold Tier – $500 \n-Visible Branding: Your logo included on select event marketing materials.\n-Social Media Post: Mention in group social media posts leading up to and during the event.\n-Event Program Listing: Listed as a sponsor in the event program.\n-Standard Booth Space: Opportunity to set up a booth in a central location.\n-PA Mention: Recognized over the PA system at the start of the event.\n-Website Mention: Name listed on the event website. \nClick to Purchase \nSilver Tier – $250 \n-Logo Display: Your logo on some event materials and a shared sponsorship banner.\n-Social Media Group Mention**: Mentioned collectively with other silver sponsors on social media.\n-Event Program Recognition**: Inclusion in the list of sponsors in the event program.\n-Booth Opportunity**: Shared space for promotional materials.\n-PA Acknowledgment: Mention over the PA system at the event. \nClick to Purchase \nBronze Tier – $150\n-Name Listing: Your company name listed on event sponsor boards.\n-Social Media Thanks: Included in a group thank-you post on social media.\n-Event Program Acknowledgment: Listed in the event program.\n-Promotional Display Table: Space on a community table for promotional materials. \nClick to Purchase \nMVP-Tier- $100 \nCompany/Oraganzation logo or name on the event banner. \nClick to Purchase \nDonate-contribute what you like to the event. \nClick to Donate
URL:https://thehilltoprva.com/event/fulton-juneteenth-empowerment-celebration-sponsorship-tiers/
LOCATION:Mount Calvry Baptist Church\, 4401 Hobbs Lane\, RICHMOND\, VA\, 23231\, United States
ATTACH;FMTTYPE=image/jpeg:https://thehilltoprva.com/wp-content/uploads/2025/05/IMG_1216.jpeg
END:VEVENT
BEGIN:VEVENT
DTSTART;TZID=America/New_York:20250619T100000
DTEND;TZID=America/New_York:20250622T200000
DTSTAMP:20260421T162735
CREATED:20250514T173835Z
LAST-MODIFIED:20250528T162150Z
UID:1295-1750327200-1750622400@thehilltoprva.com
SUMMARY:Juneteenth Empowerment Celebration June 19-22\, 2025
DESCRIPTION:  \n  \n \n  \n  \n  \n \n  \n \n  \n \n \n  \nBECOME A VENDOR \nBECOME A ENTERTAINER
URL:https://thehilltoprva.com/event/juneteenth-empowerment-celebration-june-19-22-2025/
LOCATION:VA
ATTACH;FMTTYPE=image/jpeg:https://thehilltoprva.com/wp-content/uploads/2025/05/IMG_1216-1.jpeg
END:VEVENT
BEGIN:VEVENT
DTSTART;TZID=America/New_York:20250619T100000
DTEND;TZID=America/New_York:20250619T180000
DTSTAMP:20260421T162735
CREATED:20250515T131338Z
LAST-MODIFIED:20250528T140206Z
UID:1239-1750327200-1750356000@thehilltoprva.com
SUMMARY:FULTON JUNETEENTH SOUTHERN SOUL FESTIVAL 2025
DESCRIPTION:  \n \nAbout \nOn behalf of the Richmond Community Mediators\, The Hilltop RVA\, Mount Calvary Baptist Church\, Friends of Historic Fulton Memorical Park\, Innovate Fulton\, Greater Fulton Civic Association\, Jay Luv Audio Media\, Melodies to Memories our valued collaborative partners\, we are honored to invite you to the Fulton Southern Soul Juneteenth Festival taking place on Thursday\, June 19\, 2025\, from 10:00 AM to 6:00 PM\, in the Fulton Hill Community. \n\n\n\nIn acknowledgement of\, Operation Safe Summer\, the “Get Lit Initiative” and our valued collaborative partners across all sectors of the community.  This distinguished event celebrates the historical significance of Juneteenth\, honors the legacy of Admiral Gravely’s and provides a platform for fostering cultural unity\, cultural pride\, and community engagement. \n\n\n\nThe day will begin with a deeply moving Opening Ceremony at Historic Fulton Memorial Park\, where we pay tribute to the resilience and enduring spirit of the Fulton Community. Through powerful storytelling\, community alumni will sharetheir inspiring experiences of overcoming challenges\, celebrating victories\, and building a brighter future. This heartfelt ceremony will reflect on Admiral Gravely’s extraordinary contributions and remind us of the unyielding determination that binds our community.\nFollowing the pening ceremony\, we invite you to participate in the Freedom Walk at 11:30 AM\, attendees are invited to participate in the Freedom Walk\, a symbolic procession throughthe community that connects our shared past to our hopefulfuture. The walk will culminate at Mt. Calvary Baptist Church where the festival will unfold in a vibrant celebration of culture and unity. \n  \nRCM INVITATION\n  \nWhen:  Thursday\, June 19\, 2025\, 10am-6pm \nWhere:  Fulton Historic Memorial Park and Mount Calvary Baptist\, 4401 Hobbs Lane\, Richmond\, VA 23231 \nEvent Schedule: \n10:00 a.m.  Freedom Meet Up (Historic Fulton Memorial Park) \n11:30 a.m.  Freedom Walk (Historic Fulton Memorial Park) \n12:00 p.m.  Checkout free cookout\,  DJ\, Vendors\, Community Resources\, Workshops\, etc. (Mt. Calvary) \n3:00 p.m.  Live Entertainment  \n6:00 p.m. Conclusion  \n  \nEvent Highlights: \nFree admission \nFree Food \nLive Music \nDJ \nWorkshops \nLine Dancing \nPhoto Booth \nLive Entertainment \nCommunity Resources and Education \nPodcasting \nVendors \n  \nIf you would like to get involved\, perform at the event\, become a vendor\, or sponsor please visit the link below that appropriately identifies your interest. \nHow to get involved. \nCommunity Invite \n✔️I would like to Entertain at this event. \n✔️I would like to Become a Vendor \n✔️I would like to Become a Sponsor \n  \nOrder your event Tshirt \nPreorder your event T-shirt online to staple you were a part of history for Juneteenth\, 2025 Celebration in Fulton.  (To be picked up at event) \n \nCLICK TO PURCHASE \n 
URL:https://thehilltoprva.com/event/fulton-empowernment-juneteenth-celebration-2025/
LOCATION:Mount Calvry Baptist Church\, 4401 Hobbs Lane\, RICHMOND\, VA\, 23231\, United States
ATTACH;FMTTYPE=image/jpeg:https://thehilltoprva.com/wp-content/uploads/2025/05/RCM_JuneteenthPoster_FRONT-1.jpeg
END:VEVENT
BEGIN:VEVENT
DTSTART;TZID=America/New_York:20250619T100000
DTEND;TZID=America/New_York:20250619T113000
DTSTAMP:20260421T162735
CREATED:20250517T182735Z
LAST-MODIFIED:20250528T133323Z
UID:1322-1750327200-1750332600@thehilltoprva.com
SUMMARY:The Juneteenth Empowernment Celebration Meet up & Walk
DESCRIPTION:WHAT THIS IS ALL ABOUT\nJoin Us!!! \nThe Juneteenth Empowerment Celebration \nFulton Freedom Meet-Up & Walk! \nThe Fulton community is excited to invite neighborhoods\, surrounding communities\, bike clubs\, motorcycle enthusiasts\, car clubs\, skateboarders\, walkers\, and all pet lovers to a day of unity\, celebration\, and remembrance! \n Date: Thursday\, June 19\, 2025 \n Time: 10:00 AM – 11:30 AM \n Location: Starting at Fulton Historic Memorial Park\, 5000 Williamsburg Ave\, Richmond\, VA  23231 ending at Mount Calvary Baptist\, 4401 Hobbs Lane\, Richmond\, VA 23231 \nThe day kicks off with a deeply moving Opening Ceremony at Historic Fulton Memorial Park\, where we will honor the resilience and enduring spirit of the Fulton Community. Enjoy live \, music and entertainment. Through inspiring stories shared by community alumni\, we will celebrate overcoming challenges\, personal victories\, and building a brighter future. We will also pay tribute to Admiral Gravely’s extraordinary contributions and the unwavering determination that unites us all. \nAfter the ceremony\, at 11:30 AM\, join us for the Freedom Walk— a symbolic procession connecting our shared past to a hopeful future. The walk will lead us to Mt. Calvary Baptist Church\, where our festival will continue with a vibrant celebration of culture\, community\, and unity. \nThis event is pet friendly and welcomes all bring your family\, friends\, pets\, bikes\, skateboards\, motorcycles\, and cars to enjoy this special day! \nLet’s come together to honor our community’s strength and look forward to a future filled with hope and unity. We can’t wait to see you there!  \n  \nSUPPORT THE MOVEMENT GET YOUR NAME\, COMPANY/ORGANIZATION  LOGO ON THE FREEDOM MEET UP BACKDROP.  BE APART OF HISTORY!!!! \nCLICK TO PURCHASE \nORDER EVENT T-SHIRTS\n(Receive t-shirt at the meet up) \n(Click to purchase) \n 
URL:https://thehilltoprva.com/event/the-juneteenth-empowernment-celebration-meet-up-walk/
LOCATION:Historic Fulton Memorial Park\, 5000 Williamsburg Ave\, Richmond\, Virginia\, 23231
ATTACH;FMTTYPE=image/jpeg:https://thehilltoprva.com/wp-content/uploads/2025/05/RCM_JuneteenthPoster_FRONT.jpeg
END:VEVENT
BEGIN:VEVENT
DTSTART;TZID=America/New_York:20241204T110000
DTEND;TZID=America/New_York:20241204T170000
DTSTAMP:20260421T162735
CREATED:20240729T190006Z
LAST-MODIFIED:20241009T140659Z
UID:700-1733310000-1733331600@thehilltoprva.com
SUMMARY:Adult Empowerment Fair 2024
DESCRIPTION:Screenshot\n\nAdult Empowerment Fair \nStrive for Excellence Embrace the journey to personal and professional excellence. Join us for a day of empowerment\, learning\, and community support! \n  \nWe are seeking dedicated vendors. This is a fantastic opportunity to connect with adults in our community and provide resources that support their growth and success. \nVendor Opportunities: \nCareer Development:** Job training\, resume workshops\, interview preparation – **Housing Opportunties**Health and Wellness:** Fitness programs\, mental health resources\, health screenings – **Financial Literacy:** Budgeting classes\, investment advice\, credit counseling – **Food and Beverages:** Healthy meals\, refreshments\, local food vendors – **Educational Resources:** Adult education programs\, online courses\, educational materials – **Motivation and Inspiration:** Life coaches\, motivational speakers\, mentorship programs – **Entertainment and Relaxation**Art therapy**music**wellness activities**etc……… \n**Donations Needed:** – **Monetary Contributions:** To fund workshops\, purchase supplies\, and promote the event – **Gift Cards and Prizes:** For raffles and giveaways – ** For workshops and demonstrations – **Food and Beverages:** Donations to provide meals and snacks for attendees. \nWhy Participate?** – Empower adults in our community to achieve their full potential – Promote your business and services to a motivated audience – Network with other local businesses and community advocates – Gain exposure through our extensive event promotions. \nHow to Apply: \n**Participants: RSVP your spot for free \n**Vendors: \n\nFill out the vendor application.\nVendors table will be $50.00\n\n**Donors \nTier 1- $50.00 \nTier 2 $75.00 \nTier 3 $100.00 \n\nFill out Sponsor form\nYou can make online donations via: https://donate.stripe.com/aEU7uCgNpg3a0KY28l
URL:https://thehilltoprva.com/event/empowerment-fair/
LOCATION:Hill Top\, 4916 Government Rd\, Richmond\, VA\, 23231\, United States
END:VEVENT
BEGIN:VEVENT
DTSTART;TZID=America/New_York:20241114T193000
DTEND;TZID=America/New_York:20241114T223000
DTSTAMP:20260421T162735
CREATED:20241002T025411Z
LAST-MODIFIED:20241107T144955Z
UID:970-1731612600-1731623400@thehilltoprva.com
SUMMARY:Wildout Thursday
DESCRIPTION:  \n \nLocal Artist \nLive Band Performance \nSpecial Guests  \nDJ’s \nFood Vendors \nRetail Vendors \nLive Podcast \nThursday\n Nov 14\, 2024\nNov 21\, 2024\nNov 28\, 2024\nDec 05\, 2024\nDec 12\, 2024\nDoors open 7:30\n  \n  \n\n \nBECOME A PERFORMER \nBECOME A VENDOR \nSPOTLIGHT YOUR BUSINESS  \nBECOME A SPONSOR \n 
URL:https://thehilltoprva.com/event/wildout-thursday/
LOCATION:Hill Top\, 4916 Government Rd\, Richmond\, VA\, 23231\, United States
END:VEVENT
BEGIN:VEVENT
DTSTART;TZID=America/New_York:20241114T160000
DTEND;TZID=America/New_York:20241114T200000
DTSTAMP:20260421T162735
CREATED:20240626T011013Z
LAST-MODIFIED:20241105T190418Z
UID:651-1731600000-1731614400@thehilltoprva.com
SUMMARY:Pop-Up Thursdays @ The Hilltop RVA
DESCRIPTION:  \n \n\n✅Become a Sponsor (https://thehilltoprva.com/sponsor-form/ \n✅Become  a Vendor (https://thehilltoprva.com/vendor-form/) \n✅Apply to Be a Spotlight Performer ( https://thehilltoprva.com/vendor-form/) \n✅Apply to Spotlight your Business (https://thehilltoprva.com/vendor-form/) \n\nEmail address:  thehilltoprva@gmail.com \nSocials: @thehilltoprva \n  \nFeaturing: \nFood vendors\, Retailers\, Makers\, Artists\, Farmers \nLive Podcast \nMusic \nSpecial guest \n  \nVendors fee:  $35.00 \nVendor fee $50.00 (includes Wild Out Showcase 7:30 pm-10:30 pm Nov 14\, Nov 21\, Nov 28\, Dec 05\, and Dec 12)
URL:https://thehilltoprva.com/event/pop-up-thursdays-the-hilltop-rva/
LOCATION:Hill Top\, 4916 Government Rd\, Richmond\, VA\, 23231\, United States
ATTACH;FMTTYPE=image/jpeg:https://thehilltoprva.com/wp-content/uploads/2024/06/IMG_1018.jpeg
END:VEVENT
BEGIN:VEVENT
DTSTART;TZID=America/New_York:20241102T120000
DTEND;TZID=America/New_York:20241102T160000
DTSTAMP:20260421T162735
CREATED:20240903T040030Z
LAST-MODIFIED:20240917T144343Z
UID:919-1730548800-1730563200@thehilltoprva.com
SUMMARY:BEWELL RVA!!! Healthcare and Wellness Event
DESCRIPTION:  \n\nBEWELL  RVA!!! \nJoin Us for a Community Healthcare & Wellness Event \nWho:  Adults 18 yrs & up \nWhen:  Nov 2\, 2024  \nWhere:  The Hilltop RVA\, 4916 Government road\, Richmond\, VA  23231 \nEvent Highlights \n  \n\nFirst 50 attendees will receive complimentary meal tickets.\nFitness Demostrations\nLive DJ\nHealth Screenings\nDental Bus\nVoter registration booth\n\nRSVP for free to attend!!! \nBecome a Vendor
URL:https://thehilltoprva.com/event/bewell-rva-healthcare-and-wellness-event/
LOCATION:Hill Top\, 4916 Government Rd\, Richmond\, VA\, 23231\, United States
ATTACH;FMTTYPE=image/png:https://thehilltoprva.com/wp-content/uploads/2024/09/IMG_0898.png
END:VEVENT
BEGIN:VEVENT
DTSTART;TZID=America/New_York:20241028T150000
DTEND;TZID=America/New_York:20241028T190000
DTSTAMP:20260421T162735
CREATED:20241009T135857Z
LAST-MODIFIED:20241013T180650Z
UID:965-1730127600-1730142000@thehilltoprva.com
SUMMARY:“Good Times” Voters Rally
DESCRIPTION:Join Us for the  \n“Good Times”  \nVoters Rally \nGet ready to make your voice heard and have a fantastic time at the “Good Times” Voters Rally before Election Day! 🗓 **Date:** October 28 🕒 **Time:** 3 PM to 7 PM 📍 **Location:** The Hilltop RVA\, 4916 Government Road\, Richmond\, VA 23223 \nJoin us for an unforgettable day featuring: 🎶 DJ spinning the freshest tunes 🎤 Live inspirational performances 🗣 Engaging guest speakers 🍔 Free food (while supplies last) **Live Podcast ** \nThis is the perfect opportunity to connect with your community\, energize your spirit\, and motivate others to get out and vote! Bring your friends and family\, and let’s celebrate democracy together! Don’t miss out on the fun and excitement—mark your calendars and see you there! **Let’s make our voices heard. \nBecome a Participant   \nBecome a Vendor \n 
URL:https://thehilltoprva.com/event/good-times-voters-rally/
LOCATION:VA
ATTACH;FMTTYPE=image/jpeg:https://thehilltoprva.com/wp-content/uploads/2024/10/IMG_0950.jpeg
END:VEVENT
BEGIN:VEVENT
DTSTART;TZID=America/New_York:20241003T193000
DTEND;TZID=America/New_York:20241003T193000
DTSTAMP:20260421T162735
CREATED:20240903T145636Z
LAST-MODIFIED:20241002T002358Z
UID:929-1727983800-1727983800@thehilltoprva.com
SUMMARY:Word of Mouth
DESCRIPTION:  \nLocal Artist \nLive Band Performance \nSpecial Guests  \nDJ’s \nFood Vendors \nRetail Vendors \nLive Podcast \nEvery Thursday\nStarting September 26\, 2024\nDoors open 7:30\n\n \nBECOME A VENDOR \nBECOME A SPONSOR
URL:https://thehilltoprva.com/event/word-of-mouth/
LOCATION:Hill Top\, 4916 Government Rd\, Richmond\, VA\, 23231\, United States
ATTACH;FMTTYPE=image/jpeg:https://thehilltoprva.com/wp-content/uploads/2024/09/IMG_0933.jpeg
END:VEVENT
BEGIN:VEVENT
DTSTART;TZID=America/New_York:20240908T160000
DTEND;TZID=America/New_York:20240908T180000
DTSTAMP:20260421T162735
CREATED:20240905T124150Z
LAST-MODIFIED:20240905T124150Z
UID:942-1725811200-1725818400@thehilltoprva.com
SUMMARY:Sunday Hub Session-September
DESCRIPTION:Unity Outreach\nPresents\nSunday Hub Session\n  \nCome enjoy free Live Inspirational Music\nSunday\, September 8\, 2024\n4:00 pm-6:00 pm\nWhere:\n \nThe Hilltop RVA\n4916 Government Road\nRichmond\, VA. 23231\n  \n  \n  \nDonations are accepted \n 
URL:https://thehilltoprva.com/event/sunday-hub-session-september/
LOCATION:Hill Top\, 4916 Government Rd\, Richmond\, VA\, 23231\, United States
ATTACH;FMTTYPE=image/jpeg:https://thehilltoprva.com/wp-content/uploads/2024/09/IMG_2719.jpeg
END:VEVENT
BEGIN:VEVENT
DTSTART;TZID=America/New_York:20240710T110000
DTEND;TZID=America/New_York:20240710T140000
DTSTAMP:20260421T162735
CREATED:20240630T045500Z
LAST-MODIFIED:20240630T045500Z
UID:661-1720609200-1720620000@thehilltoprva.com
SUMMARY:Open House @The Hilltop RVA
DESCRIPTION:OPEN HOUSE \n  \n✅Every Wednesday 5 to 8 pm \n✅Learn about The Hilltop RVA. \n✅Services offered \n✅I want to rent The Hilltop RVA. \n✅I want to Become a Sponsor \n  \nMore questions contact us at 804-348-2322 (text)\, or email us thehilltoprva@gmail.com \n 
URL:https://thehilltoprva.com/event/open-house-the-hilltop-rva/
LOCATION:Hill Top\, 4916 Government Rd\, Richmond\, VA\, 23231\, United States
ATTACH;FMTTYPE=image/jpeg:https://thehilltoprva.com/wp-content/uploads/2024/06/IMG_3355-1.jpeg
END:VEVENT
BEGIN:VEVENT
DTSTART;TZID=America/New_York:20240707T170000
DTEND;TZID=America/New_York:20240707T200000
DTSTAMP:20260421T162735
CREATED:20240626T013437Z
LAST-MODIFIED:20240630T050434Z
UID:657-1720371600-1720382400@thehilltoprva.com
SUMMARY:Creative Minds (Networking Panel)
DESCRIPTION:  \nScreenshot\n\nATTENTION: \nEntrepreneurs\, Teachers\, Podcasters\, Artist\, Musicians\, Audio Engineers\, Content Creators\, Entertainers\, Photographers\, Videographers\,  Public Speakers\, Poets\, Bands\, Dancers\,  Authors\, Graphic Designers\, Event planners\, Models etc. \nWE WANT YOU HERE!!! \nMeet like minded people\, collaborate\, let’s plan for our ideas to manifest. \nWhen:  Sunday\, July 7\, 2024; 5pm to 8pm \nWhere:  The Hilltop RVA\, 4916 Government Road\, Richmond\, VA 23231 \nCost:  $20 per ticket \nEvent catered by Bono’s Caribbean Cuisine \nRegister and reserve your spot: \n  \n  \n  \n  \n 
URL:https://thehilltoprva.com/event/creative-minds-networking-panel/
LOCATION:VA
ATTACH;FMTTYPE=image/jpeg:https://thehilltoprva.com/wp-content/uploads/2024/06/IMG_0611.jpeg
END:VEVENT
BEGIN:VEVENT
DTSTART;TZID=America/New_York:20240619T100000
DTEND;TZID=America/New_York:20240619T180000
DTSTAMP:20260421T162735
CREATED:20240527T154447Z
LAST-MODIFIED:20240527T165236Z
UID:584-1718791200-1718820000@thehilltoprva.com
SUMMARY:The Richmond  Community Mediators at The Hilltop RVA Juneteenth Celebration
DESCRIPTION:Become a Sponsor (https://thehilltoprva.com/sponsor-form/ \nBecome  a Vendor (https://thehilltoprva.com/vendor-form/) \nBecome a Performer ( https://thehilltoprva.com/vendor-form/) \nWww.thehilltoprva.com/event/ \nthehilltoprva@gmail.com \nSocials: @thehilltoprva \nFree food from 11am to 1pm (while supplies last) \nFree Admission \nStreet closure: \nGovernment Road to National Street \nNational street and Government road \nParking \nBehind Cahn Health Network \n*All guest must be 18yrs and older unless escorted by a parent or guardian.\n \n  \n \nRaffle 1:  Win $100 Gift certificate to Kicks Boomin \nPurchase $5.00 raffle ticket and redeem on June 19\, 2024 for 1 raffle ticket to enter drawing. \nhttps://buy.stripe.com/cN202afJl7wEctGdQX \n  \n 
URL:https://thehilltoprva.com/event/the-richmond-community-mediators-at-the-hilltop-rva-juneteenth-celebration/
LOCATION:Hill Top\, 4916 Government Rd\, Richmond\, VA\, 23231\, United States
ATTACH;FMTTYPE=image/jpeg:https://thehilltoprva.com/wp-content/uploads/2024/05/IMG_0576.jpeg
END:VEVENT
BEGIN:VEVENT
DTSTART;TZID=UTC:20240518T100000
DTEND;TZID=UTC:20240518T180000
DTSTAMP:20260421T162735
CREATED:20240327T190246Z
LAST-MODIFIED:20240505T071000Z
UID:289-1716026400-1716055200@thehilltoprva.com
SUMMARY:Community Day
DESCRIPTION:  \n  \n \nFree Food 11am-1pm\nDJ-Live Music-Vendors \nBecome A Vendor Form \nBecome A Sponsor Form \n  \n  \n\n \n\n\n\n \n  \n  \n \n \n  \n  \n 
URL:https://thehilltoprva.com/event/community-day/
LOCATION:Hill Top\, 4916 Government Rd\, Richmond\, VA\, 23231\, United States
END:VEVENT
BEGIN:VEVENT
DTSTART;TZID=UTC:20240409T123000
DTEND;TZID=UTC:20240409T140000
DTSTAMP:20260421T162735
CREATED:20240403T201827Z
LAST-MODIFIED:20240403T202706Z
UID:323-1712665800-1712671200@thehilltoprva.com
SUMMARY:Atlantic Outreach Mobile Food Pantry
DESCRIPTION:
URL:https://thehilltoprva.com/event/atlantic-outreach-mobile-food-pantry/
LOCATION:Hill Top\, 4916 Government Rd\, Richmond\, VA\, 23231\, United States
END:VEVENT
END:VCALENDAR