BEGIN:VCALENDAR
VERSION:2.0
PRODID:-//Hill Top RVA - ECPv6.15.20//NONSGML v1.0//EN
CALSCALE:GREGORIAN
METHOD:PUBLISH
X-ORIGINAL-URL:https://thehilltoprva.com
X-WR-CALDESC:Events for Hill Top RVA
REFRESH-INTERVAL;VALUE=DURATION:PT1H
X-Robots-Tag:noindex
X-PUBLISHED-TTL:PT1H
BEGIN:VTIMEZONE
TZID:America/New_York
BEGIN:DAYLIGHT
TZOFFSETFROM:-0500
TZOFFSETTO:-0400
TZNAME:EDT
DTSTART:20250309T070000
END:DAYLIGHT
BEGIN:STANDARD
TZOFFSETFROM:-0400
TZOFFSETTO:-0500
TZNAME:EST
DTSTART:20251102T060000
END:STANDARD
BEGIN:DAYLIGHT
TZOFFSETFROM:-0500
TZOFFSETTO:-0400
TZNAME:EDT
DTSTART:20260308T070000
END:DAYLIGHT
BEGIN:STANDARD
TZOFFSETFROM:-0400
TZOFFSETTO:-0500
TZNAME:EST
DTSTART:20261101T060000
END:STANDARD
BEGIN:DAYLIGHT
TZOFFSETFROM:-0500
TZOFFSETTO:-0400
TZNAME:EDT
DTSTART:20270314T070000
END:DAYLIGHT
BEGIN:STANDARD
TZOFFSETFROM:-0400
TZOFFSETTO:-0500
TZNAME:EST
DTSTART:20271107T060000
END:STANDARD
END:VTIMEZONE
BEGIN:VEVENT
DTSTART;TZID=America/New_York:20260208T153000
DTEND;TZID=America/New_York:20260208T180000
DTSTAMP:20260421T162924
CREATED:20260126T020102Z
LAST-MODIFIED:20260126T183805Z
UID:1828-1770564600-1770573600@thehilltoprva.com
SUMMARY:G-Spot Lemonade X The Hilltop RVA Super Bowl Pregame Showcase
DESCRIPTION:SUPER BOWL SUNDAY STARTS HERE  \nBefore kickoff… we’re setting the tone  \nJoin us for the G Spot Lemonade Pregame Artist Showcase at The Hilltop RVA — a high-energy pregame experience packed with live performances\, crowd vibes\, and Super Bowl anticipation. \n Sunday\, February 8\, 2026 \n 4:00 PM – 6:00 PM \n $7 Entry \n Passes for the Pregame Showcase & Super Bowl Watch Party are available at: \n thehilltoprva.com/event/ \n Live artists \n Big energy \n The perfect lead-in to kickoff \n \n STAY AFTER for the Super Bowl Watch Party featuring multiple viewing areas\, food\, drinks\, and live entertainment. \nARTIST INTERESTED IN PERFORMING (LIMITED SPOTS) CLICK HERE!!! \nVENDORS WANTED !!!! (LIMITED SPOTS)CLICK HERE!!! \n The Hilltop RVA \n Follow & tag us \nDM US FOR ANY QUESTIONS\, OR INQUIRIES \n@gsplotlemonade \n@thehilltoprva \n#SuperBowlSunday #PregameVibes #ArtistShowcase #HilltopRVA #GSpotLemonade #RVAEvents #LiveMusicRVA #SuperBowlWeekend #SupportLocalArtists
URL:https://thehilltoprva.com/event/g-spot-lemonade-x-the-hilltop-rva-super-bowl-pregame-showcase/
LOCATION:Hill Top\, 4916 Government Rd\, Richmond\, VA\, 23231\, United States
ATTACH;FMTTYPE=image/jpeg:https://thehilltoprva.com/wp-content/uploads/2026/01/B823EAC9-20A7-4509-B2D1-F0583A105706.jpg
END:VEVENT
BEGIN:VEVENT
DTSTART;TZID=America/New_York:20260208T180000
DTEND;TZID=America/New_York:20260208T233000
DTSTAMP:20260421T162924
CREATED:20260126T020306Z
LAST-MODIFIED:20260131T060752Z
UID:1842-1770573600-1770593400@thehilltoprva.com
SUMMARY:The Hilltop RVA -Super Bowl Sunday
DESCRIPTION:Super Bowl Watch Party at The Hilltop RVA\n  \n February 8\, 2026 |  Starts at 6:15 PM \nGet ready for the ultimate Super Bowl experience at The Hilltop RVA! Whether you’re pulling up with your crew\, watching from your car\, or posted up in our VIP lounge\, we’ve created multiple ways for you to enjoy the biggest game of the year — your way. \nBefore kickoff\, join us early for Super Pop Up and the G Spot Lemonade Pregame Artist Showcase\, setting the vibe before the game takes over. \n  \n Three Viewing Experiences | Multiple Pass Options\n General Admission – Parking Pass ($10) \n• Access to parking lot viewing area \n• Watch the game from your car \n• 150-inch outdoor movie screen \n Silver Pass ($15) \n• Access to parking lot viewing area \n• Access to enclosed & heated viewing area \n• Includes 1 free drink \n Gold Pass ($22) \n• Access to all viewing areas \n• Hilltop RVA VIP Lounge access \n• Includes 1 drink ticket + 1 meal ticket (while supplies last) \n• Pregame Artist Showcase included \n Platinum Tailgate Pass ($40) \n• Full access to all viewing areas \n• Exclusive private tailgate area \n• Pull up and set up your own tailgate \n• Freedom to move between all zones \n• Includes drink tickets + meal ticket \n• Pregame Artist Showcase included \n• Ideal for groups\, car clubs\, and serious fans \n  \n\n  \n  \n Entertainment & Extras\n \n• Live DJ & entertainment \n• Food & concessions served on site \n• Big screens\, high-energy atmosphere\, and unmatched vibes \n Must be 18 years or older to attend \n Buy passes for the Pregame Showcase and Super Bowl Watch Party at: \n www.thehilltoprva.com/event \nCome early. Choose your pass. Stay for the game. \nSuper Bowl Sunday at The Hilltop RVA  \n \n  \nVendors wanted:(Limited spots available)Click here \nFollow Us \n@thehilltoprva \nDm or Text 804-348-2322 for more info.
URL:https://thehilltoprva.com/event/the-hilltop-rva-super-bowl-watch-party/
LOCATION:Hill Top\, 4916 Government Rd\, Richmond\, VA\, 23231\, United States
ATTACH;FMTTYPE=image/jpeg:https://thehilltoprva.com/wp-content/uploads/2026/01/136138BC-52A2-44D6-AB5A-8DD045BAA1FB.jpg
END:VEVENT
BEGIN:VEVENT
DTSTART;TZID=America/New_York:20260209T000000
DTEND;TZID=America/New_York:20260209T030000
DTSTAMP:20260421T162924
CREATED:20260126T205520Z
LAST-MODIFIED:20260126T210525Z
UID:1890-1770595200-1770606000@thehilltoprva.com
SUMMARY:The Super Mixer
DESCRIPTION:THE SUPER MIXER  \nSuper Bowl Sunday • Late-Night Creative Experience \nWe’re closing out Super Bowl Sunday the right way. \n Artists \n Producers \n Content Creators \n Videographers \n Influencers \n Creative Connectors \nIf you’re building\, creating\, and collaborating — this is where you need to be. \nFebruary 9\, 2026 \n Midnight – 3:00 AM \n The Hilltop RVA \n4916 Government Rd.\, Richmond\, VA \n Hosted by @Phd_Khari \n Drinks & Snacks Provided \n $7 Admission \n Intentional vibes. \n Real connections. \n Creative energy only. \n Get your tickets NOW: \n www.thehilltoprva.com/event/ \nPowered by @TheHilltopRVA \n  \n\n  \n 
URL:https://thehilltoprva.com/event/the-super-mixer/
LOCATION:Hill Top\, 4916 Government Rd\, Richmond\, VA\, 23231\, United States
ATTACH;FMTTYPE=image/jpeg:https://thehilltoprva.com/wp-content/uploads/2026/01/1536816B-B169-47ED-8D30-5D275315B699.jpg
END:VEVENT
BEGIN:VEVENT
DTSTART;TZID=America/New_York:20260212T180000
DTEND;TZID=America/New_York:20260212T220000
DTSTAMP:20260421T162924
CREATED:20260127T170009Z
LAST-MODIFIED:20260131T065320Z
UID:1913-1770919200-1770933600@thehilltoprva.com
SUMMARY:Valentines Day Essential Pop Up
DESCRIPTION:VALENTINE’S ESSENTIAL POP-UP  \n February 12\, 2026 \n6:00 PM to 10 PM \nStill need the perfect Valentine’s gift? \nWe’ve got you covered  \nJoin us for the ultimate last-minute Valentine’s shopping experience\, featuring top-quality\, gift-ready items you’ll actually be proud to give to your loved ones. \n Flowers \n Jewelry \n Candles \n Sweets \n Fashion & self-care \n Unique\, wow-worthy gifts \nWhether you’re shopping for your partner\, your crush\, or yourself — this is the place to be  \n  \n \n\n  \n CALLING ALL VENDORS  \nDo you sell Valentine-ready\, premium products? \n VENDORS: TEXT “VALENTINE” TO 804-348-2322 \nSpots are limited and curated to keep the experience high-quality. \n  \n\n  \n Come out\, shop local\, and grab those last-minute Valentine’s gifts before the big day! \n HillTop RVA \n DM us for questions \n Tag a friend who needs Valentine gift help! \n  \n\n 
URL:https://thehilltoprva.com/event/valentines-day-essential-pop-up/
LOCATION:Hill Top\, 4916 Government Rd\, Richmond\, VA\, 23231\, United States
ATTACH;FMTTYPE=image/jpeg:https://thehilltoprva.com/wp-content/uploads/2026/01/DF9910C6-C169-448E-989D-B42FCD2A0547.jpg
END:VEVENT
BEGIN:VEVENT
DTSTART;TZID=America/New_York:20260213T190000
DTEND;TZID=America/New_York:20260213T223000
DTSTAMP:20260421T162924
CREATED:20260127T133110Z
LAST-MODIFIED:20260131T064711Z
UID:1909-1771009200-1771021800@thehilltoprva.com
SUMMARY:Dark Room Showcase
DESCRIPTION:  \n \n  \nFEBUARY 13\, 2026\nOVER 20 ARTIST SHOWCASED FROM THE DMV!!!\nMORE INFORMATION OR TO BUY TICKETS DM @EVENTSBYMONI_\n  \nNEW!!NIGHT CAP\n \nTICKETS ON SALE 
URL:https://thehilltoprva.com/event/dark-room-showcase/
LOCATION:Hill Top\, 4916 Government Rd\, Richmond\, VA\, 23231\, United States
ATTACH;FMTTYPE=image/jpeg:https://thehilltoprva.com/wp-content/uploads/2026/01/photo-output.jpg
END:VEVENT
BEGIN:VEVENT
DTSTART;TZID=America/New_York:20260214T223000
DTEND;TZID=America/New_York:20260215T010000
DTSTAMP:20260421T162924
CREATED:20260127T172102Z
LAST-MODIFIED:20260127T173153Z
UID:1921-1771108200-1771117200@thehilltoprva.com
SUMMARY:Valentine Night Cap Drive in Movie
DESCRIPTION:VALENTINE’S NIGHTCAP DRIVE-IN MOVIE  \nat Hilltop RVA \nPull up\, park\, and cozy up  \nEnd Valentine’s Day the right way with a late-night romantic drive-in movie experience under the stars. \n February 14 \n Movie starts at 10:30 PM \n Hilltop RVA \n Giant 150” Screen + PA Sound \n Tickets: $8 \n Concessions will be sold \n(Drinks & popcorn available on site) \n Get your tickets now: \n www.thehilltoprva.com/event/ \nPerfect for couples and late-night Valentine’s vibes. \nDM us @thehilltoprva for questions
URL:https://thehilltoprva.com/event/valentine-night-cap-drive-in-movie/
LOCATION:Hill Top\, 4916 Government Rd\, Richmond\, VA\, 23231\, United States
ATTACH;FMTTYPE=image/jpeg:https://thehilltoprva.com/wp-content/uploads/2026/01/9B839D52-4730-4701-AB95-CC7B193697C4.jpg
END:VEVENT
BEGIN:VEVENT
DTSTART;TZID=America/New_York:20260228T140000
DTEND;TZID=America/New_York:20260228T230000
DTSTAMP:20260421T162924
CREATED:20260127T030735Z
LAST-MODIFIED:20260227T150754Z
UID:1896-1772287200-1772319600@thehilltoprva.com
SUMMARY:❄️🧊 SDCVA WINTER FEST 2026 🧊❄️
DESCRIPTION:  \nA one-day dance festival celebrating 10 years of Subjective Dance Club Virginia and showcasing the working dancers of Richmond\, Virginia. Programming is family-friendly and includes curated performances\, a choreographer showcase\, featured exhibition dance battles\, live DJs\, dance class registration tables\, vendors\, and an after-party experience\, creating a welcoming space for families\, supporters\, and culture lovers to gather. \n\n\n Location: The Hilltop RVA\n Date: Saturday\, February 28\, 2026\n Gates Open: 2:00 PM \n Main Performance Space – “The Igloo”\nAccess to the main performance space requires a wristband. \n Tickets \nGeneral Admission – Donation Based. Pay What You Can! \n\nInquiries: Sponsor\, Vendor\, and Performer inquiries may be directed to\nCoach Gregg (@papiibds)\n 804-466-4004\n subjectivedance@gmail.com
URL:https://thehilltoprva.com/event/%e2%9d%84%ef%b8%8f%f0%9f%a7%8a-sdcva-winter-fest-2026-%f0%9f%a7%8a%e2%9d%84%ef%b8%8f/
LOCATION:Hill Top\, 4916 Government Rd\, Richmond\, VA\, 23231\, United States
ATTACH;FMTTYPE=image/jpeg:https://thehilltoprva.com/wp-content/uploads/2026/01/SDCVA-Winter-Fest-2026-Flyer.jpg
END:VEVENT
BEGIN:VEVENT
DTSTART;TZID=America/New_York:20260302T170000
DTEND;TZID=America/New_York:20260302T220000
DTSTAMP:20260421T162924
CREATED:20260127T183055Z
LAST-MODIFIED:20260131T061751Z
UID:1925-1772470800-1772488800@thehilltoprva.com
SUMMARY:The Hilltop RVA Pop Up Boutique
DESCRIPTION:HILLTOP RVA POP-UP BOUTIQUE — GRAND OPENING!  \nWe’re officially opening our brand-new Pop-Up Boutique at Hilltop RVA and you’re invited to be part of it  \n\n Monday\, March 2\, 2026\n\n 4916 Government Rd\, Richmond\, VA \n @thehilltoprva \nCome shop local brands\, discover exclusive apparel\, and experience a clean\, modern retail space built for creators\, designers\, and resellers. \n What to Expect: \n• Vendor pop-ups \n• Local brands \n• Exclusive apparel \n• 1-day only grand opening deals \n• Raffles\, giveaways & photo ops \n The Space Features: \n White cube shelving for folded apparel \n Center shoe display island \n Wall racks for hanging clothing \n Grey flooring for a polished\, upscale retail vibe \n Perfect for: \nClothing brands • Retailers • Custom apparel • Sneaker resellers • Jewelry & accessories • Creative merch \n  \nVendors(click here to register)\nYou don’t just pop up — you grow. \n• Week-to-week flexibility \n• Built-in exposure from Hilltop RVA events & traffic \n• Retail-ready setup \n• Content-friendly for photos & promo \n• PLUS your own online marketplace to sell products & services \n Want to place your brand in the boutique? \nText “BOUTIQUE” to 804-348-2322 \nThis is more than a pop-up — it’s a launchpad. \nTag a brand that needs to be here
URL:https://thehilltoprva.com/event/the-hilltop-rva-pop-up-boutique/
LOCATION:Hill Top\, 4916 Government Rd\, Richmond\, VA\, 23231\, United States
ATTACH;FMTTYPE=image/jpeg:https://thehilltoprva.com/wp-content/uploads/2026/01/FE1E4B40-68A0-4250-8AB2-5FE51AB0948F.jpg
END:VEVENT
END:VCALENDAR