BEGIN:VCALENDAR
VERSION:2.0
PRODID:-//Hill Top RVA - ECPv6.15.20//NONSGML v1.0//EN
CALSCALE:GREGORIAN
METHOD:PUBLISH
X-WR-CALNAME:Hill Top RVA
X-ORIGINAL-URL:https://thehilltoprva.com
X-WR-CALDESC:Events for Hill Top RVA
REFRESH-INTERVAL;VALUE=DURATION:PT1H
X-Robots-Tag:noindex
X-PUBLISHED-TTL:PT1H
BEGIN:VTIMEZONE
TZID:America/New_York
BEGIN:DAYLIGHT
TZOFFSETFROM:-0500
TZOFFSETTO:-0400
TZNAME:EDT
DTSTART:20230312T070000
END:DAYLIGHT
BEGIN:STANDARD
TZOFFSETFROM:-0400
TZOFFSETTO:-0500
TZNAME:EST
DTSTART:20231105T060000
END:STANDARD
BEGIN:DAYLIGHT
TZOFFSETFROM:-0500
TZOFFSETTO:-0400
TZNAME:EDT
DTSTART:20240310T070000
END:DAYLIGHT
BEGIN:STANDARD
TZOFFSETFROM:-0400
TZOFFSETTO:-0500
TZNAME:EST
DTSTART:20241103T060000
END:STANDARD
BEGIN:DAYLIGHT
TZOFFSETFROM:-0500
TZOFFSETTO:-0400
TZNAME:EDT
DTSTART:20250309T070000
END:DAYLIGHT
BEGIN:STANDARD
TZOFFSETFROM:-0400
TZOFFSETTO:-0500
TZNAME:EST
DTSTART:20251102T060000
END:STANDARD
END:VTIMEZONE
BEGIN:VTIMEZONE
TZID:UTC
BEGIN:STANDARD
TZOFFSETFROM:+0000
TZOFFSETTO:+0000
TZNAME:UTC
DTSTART:20230101T000000
END:STANDARD
END:VTIMEZONE
BEGIN:VEVENT
DTSTART;TZID=America/New_York:20241102T120000
DTEND;TZID=America/New_York:20241102T160000
DTSTAMP:20260421T204406
CREATED:20240903T040030Z
LAST-MODIFIED:20240917T144343Z
UID:919-1730548800-1730563200@thehilltoprva.com
SUMMARY:BEWELL RVA!!! Healthcare and Wellness Event
DESCRIPTION:  \n\nBEWELL  RVA!!! \nJoin Us for a Community Healthcare & Wellness Event \nWho:  Adults 18 yrs & up \nWhen:  Nov 2\, 2024  \nWhere:  The Hilltop RVA\, 4916 Government road\, Richmond\, VA  23231 \nEvent Highlights \n  \n\nFirst 50 attendees will receive complimentary meal tickets.\nFitness Demostrations\nLive DJ\nHealth Screenings\nDental Bus\nVoter registration booth\n\nRSVP for free to attend!!! \nBecome a Vendor
URL:https://thehilltoprva.com/event/bewell-rva-healthcare-and-wellness-event/
LOCATION:Hill Top\, 4916 Government Rd\, Richmond\, VA\, 23231\, United States
ATTACH;FMTTYPE=image/png:https://thehilltoprva.com/wp-content/uploads/2024/09/IMG_0898.png
END:VEVENT
BEGIN:VEVENT
DTSTART;TZID=America/New_York:20241028T150000
DTEND;TZID=America/New_York:20241028T190000
DTSTAMP:20260421T204406
CREATED:20241009T135857Z
LAST-MODIFIED:20241013T180650Z
UID:965-1730127600-1730142000@thehilltoprva.com
SUMMARY:“Good Times” Voters Rally
DESCRIPTION:Join Us for the  \n“Good Times”  \nVoters Rally \nGet ready to make your voice heard and have a fantastic time at the “Good Times” Voters Rally before Election Day! 🗓 **Date:** October 28 🕒 **Time:** 3 PM to 7 PM 📍 **Location:** The Hilltop RVA\, 4916 Government Road\, Richmond\, VA 23223 \nJoin us for an unforgettable day featuring: 🎶 DJ spinning the freshest tunes 🎤 Live inspirational performances 🗣 Engaging guest speakers 🍔 Free food (while supplies last) **Live Podcast ** \nThis is the perfect opportunity to connect with your community\, energize your spirit\, and motivate others to get out and vote! Bring your friends and family\, and let’s celebrate democracy together! Don’t miss out on the fun and excitement—mark your calendars and see you there! **Let’s make our voices heard. \nBecome a Participant   \nBecome a Vendor \n 
URL:https://thehilltoprva.com/event/good-times-voters-rally/
LOCATION:VA
ATTACH;FMTTYPE=image/jpeg:https://thehilltoprva.com/wp-content/uploads/2024/10/IMG_0950.jpeg
END:VEVENT
BEGIN:VEVENT
DTSTART;TZID=America/New_York:20241003T193000
DTEND;TZID=America/New_York:20241003T193000
DTSTAMP:20260421T204406
CREATED:20240903T145636Z
LAST-MODIFIED:20241002T002358Z
UID:929-1727983800-1727983800@thehilltoprva.com
SUMMARY:Word of Mouth
DESCRIPTION:  \nLocal Artist \nLive Band Performance \nSpecial Guests  \nDJ’s \nFood Vendors \nRetail Vendors \nLive Podcast \nEvery Thursday\nStarting September 26\, 2024\nDoors open 7:30\n\n \nBECOME A VENDOR \nBECOME A SPONSOR
URL:https://thehilltoprva.com/event/word-of-mouth/
LOCATION:Hill Top\, 4916 Government Rd\, Richmond\, VA\, 23231\, United States
ATTACH;FMTTYPE=image/jpeg:https://thehilltoprva.com/wp-content/uploads/2024/09/IMG_0933.jpeg
END:VEVENT
BEGIN:VEVENT
DTSTART;TZID=America/New_York:20240908T160000
DTEND;TZID=America/New_York:20240908T180000
DTSTAMP:20260421T204406
CREATED:20240905T124150Z
LAST-MODIFIED:20240905T124150Z
UID:942-1725811200-1725818400@thehilltoprva.com
SUMMARY:Sunday Hub Session-September
DESCRIPTION:Unity Outreach\nPresents\nSunday Hub Session\n  \nCome enjoy free Live Inspirational Music\nSunday\, September 8\, 2024\n4:00 pm-6:00 pm\nWhere:\n \nThe Hilltop RVA\n4916 Government Road\nRichmond\, VA. 23231\n  \n  \n  \nDonations are accepted \n 
URL:https://thehilltoprva.com/event/sunday-hub-session-september/
LOCATION:Hill Top\, 4916 Government Rd\, Richmond\, VA\, 23231\, United States
ATTACH;FMTTYPE=image/jpeg:https://thehilltoprva.com/wp-content/uploads/2024/09/IMG_2719.jpeg
END:VEVENT
BEGIN:VEVENT
DTSTART;TZID=America/New_York:20240710T110000
DTEND;TZID=America/New_York:20240710T140000
DTSTAMP:20260421T204406
CREATED:20240630T045500Z
LAST-MODIFIED:20240630T045500Z
UID:661-1720609200-1720620000@thehilltoprva.com
SUMMARY:Open House @The Hilltop RVA
DESCRIPTION:OPEN HOUSE \n  \n✅Every Wednesday 5 to 8 pm \n✅Learn about The Hilltop RVA. \n✅Services offered \n✅I want to rent The Hilltop RVA. \n✅I want to Become a Sponsor \n  \nMore questions contact us at 804-348-2322 (text)\, or email us thehilltoprva@gmail.com \n 
URL:https://thehilltoprva.com/event/open-house-the-hilltop-rva/
LOCATION:Hill Top\, 4916 Government Rd\, Richmond\, VA\, 23231\, United States
ATTACH;FMTTYPE=image/jpeg:https://thehilltoprva.com/wp-content/uploads/2024/06/IMG_3355-1.jpeg
END:VEVENT
BEGIN:VEVENT
DTSTART;TZID=America/New_York:20240707T170000
DTEND;TZID=America/New_York:20240707T200000
DTSTAMP:20260421T204406
CREATED:20240626T013437Z
LAST-MODIFIED:20240630T050434Z
UID:657-1720371600-1720382400@thehilltoprva.com
SUMMARY:Creative Minds (Networking Panel)
DESCRIPTION:  \nScreenshot\n\nATTENTION: \nEntrepreneurs\, Teachers\, Podcasters\, Artist\, Musicians\, Audio Engineers\, Content Creators\, Entertainers\, Photographers\, Videographers\,  Public Speakers\, Poets\, Bands\, Dancers\,  Authors\, Graphic Designers\, Event planners\, Models etc. \nWE WANT YOU HERE!!! \nMeet like minded people\, collaborate\, let’s plan for our ideas to manifest. \nWhen:  Sunday\, July 7\, 2024; 5pm to 8pm \nWhere:  The Hilltop RVA\, 4916 Government Road\, Richmond\, VA 23231 \nCost:  $20 per ticket \nEvent catered by Bono’s Caribbean Cuisine \nRegister and reserve your spot: \n  \n  \n  \n  \n 
URL:https://thehilltoprva.com/event/creative-minds-networking-panel/
LOCATION:VA
ATTACH;FMTTYPE=image/jpeg:https://thehilltoprva.com/wp-content/uploads/2024/06/IMG_0611.jpeg
END:VEVENT
BEGIN:VEVENT
DTSTART;TZID=America/New_York:20240619T100000
DTEND;TZID=America/New_York:20240619T180000
DTSTAMP:20260421T204406
CREATED:20240527T154447Z
LAST-MODIFIED:20240527T165236Z
UID:584-1718791200-1718820000@thehilltoprva.com
SUMMARY:The Richmond  Community Mediators at The Hilltop RVA Juneteenth Celebration
DESCRIPTION:Become a Sponsor (https://thehilltoprva.com/sponsor-form/ \nBecome  a Vendor (https://thehilltoprva.com/vendor-form/) \nBecome a Performer ( https://thehilltoprva.com/vendor-form/) \nWww.thehilltoprva.com/event/ \nthehilltoprva@gmail.com \nSocials: @thehilltoprva \nFree food from 11am to 1pm (while supplies last) \nFree Admission \nStreet closure: \nGovernment Road to National Street \nNational street and Government road \nParking \nBehind Cahn Health Network \n*All guest must be 18yrs and older unless escorted by a parent or guardian.\n \n  \n \nRaffle 1:  Win $100 Gift certificate to Kicks Boomin \nPurchase $5.00 raffle ticket and redeem on June 19\, 2024 for 1 raffle ticket to enter drawing. \nhttps://buy.stripe.com/cN202afJl7wEctGdQX \n  \n 
URL:https://thehilltoprva.com/event/the-richmond-community-mediators-at-the-hilltop-rva-juneteenth-celebration/
LOCATION:Hill Top\, 4916 Government Rd\, Richmond\, VA\, 23231\, United States
ATTACH;FMTTYPE=image/jpeg:https://thehilltoprva.com/wp-content/uploads/2024/05/IMG_0576.jpeg
END:VEVENT
BEGIN:VEVENT
DTSTART;TZID=UTC:20240518T100000
DTEND;TZID=UTC:20240518T180000
DTSTAMP:20260421T204406
CREATED:20240327T190246Z
LAST-MODIFIED:20240505T071000Z
UID:289-1716026400-1716055200@thehilltoprva.com
SUMMARY:Community Day
DESCRIPTION:  \n  \n \nFree Food 11am-1pm\nDJ-Live Music-Vendors \nBecome A Vendor Form \nBecome A Sponsor Form \n  \n  \n\n \n\n\n\n \n  \n  \n \n \n  \n  \n 
URL:https://thehilltoprva.com/event/community-day/
LOCATION:Hill Top\, 4916 Government Rd\, Richmond\, VA\, 23231\, United States
END:VEVENT
BEGIN:VEVENT
DTSTART;TZID=UTC:20240409T123000
DTEND;TZID=UTC:20240409T140000
DTSTAMP:20260421T204406
CREATED:20240403T201827Z
LAST-MODIFIED:20240403T202706Z
UID:323-1712665800-1712671200@thehilltoprva.com
SUMMARY:Atlantic Outreach Mobile Food Pantry
DESCRIPTION:
URL:https://thehilltoprva.com/event/atlantic-outreach-mobile-food-pantry/
LOCATION:Hill Top\, 4916 Government Rd\, Richmond\, VA\, 23231\, United States
END:VEVENT
END:VCALENDAR